BEGIN:VCALENDAR
VERSION:2.0
PRODID:-//hacksw/handcal//NONSGML v1.0//EN
BEGIN:VEVENT
DTSTAMP:20241112T160000Z
DTSTART:20241112T160000Z
DTEND:20241112T180000Z
LOCATION:Linden-Center, Prerower Pl. 1, Eingang Burger King, 13051, Deutschland
SUMMARY:Infostand Linden-Center
END:VEVENT
END:VCALENDAR
