BEGIN:VCALENDAR
VERSION:2.0
PRODID:-//hacksw/handcal//NONSGML v1.0//EN
BEGIN:VEVENT
DTSTAMP:20250113T173000Z
DTSTART:20250113T173000Z
DTEND:20250113T190000Z
LOCATION:am Brunnen der Jugend, neben dem CineMotion Berlin, Wartenberger Straße 174, 13053, Deutschland
SUMMARY:Nachbarschaftstreffen Wartenberger Straße 
END:VEVENT
END:VCALENDAR
