BEGIN:VCALENDAR
VERSION:2.0
PRODID:-//hacksw/handcal//NONSGML v1.0//EN
BEGIN:VEVENT
DTSTAMP:20250117T173000Z
DTSTART:20250117T173000Z
DTEND:20250117T190000Z
LOCATION:Rummelsburger Straße/Lincolnstraße, Lincolnstraße 86, Berlin, 10315, Deutschland
SUMMARY:Nachbarschaftstreffen Rummelsburger Straße/Lincolnstraße
END:VEVENT
END:VCALENDAR
