BEGIN:VCALENDAR
VERSION:2.0
PRODID:-//hacksw/handcal//NONSGML v1.0//EN
BEGIN:VEVENT
DTSTAMP:20250118T160000Z
DTSTART:20250118T160000Z
DTEND:20250118T173000Z
LOCATION:Dathepromenade 3, Berlin, 10319, Deutschland
SUMMARY:Nachbarschaftstreffen Dathepromenade
END:VEVENT
END:VCALENDAR
