BEGIN:VCALENDAR
VERSION:2.0
PRODID:-//hacksw/handcal//NONSGML v1.0//EN
BEGIN:VEVENT
DTSTAMP:20250131T163000Z
DTSTART:20250131T163000Z
DTEND:20250131T180000Z
LOCATION:Dolgenseestraße 9 a-c, Berlin, 10319, Deutschland
SUMMARY:Nachbarschaftstreffen Dolgenseestraße
END:VEVENT
END:VCALENDAR
