BEGIN:VCALENDAR
VERSION:2.0
PRODID:-//hacksw/handcal//NONSGML v1.0//EN
BEGIN:VEVENT
DTSTAMP:20250203T173000Z
DTSTART:20250203T173000Z
DTEND:20250203T190000Z
LOCATION:Siedlerheim, Straße 5 Nr. 74, Berlin, 13059, Deutschland
SUMMARY:Nachbarschaftstreffen Straße 5
END:VEVENT
END:VCALENDAR
