BEGIN:VCALENDAR
VERSION:2.0
PRODID:-//hacksw/handcal//NONSGML v1.0//EN
BEGIN:VEVENT
DTSTAMP:20250206T163000Z
DTSTART:20250206T163000Z
DTEND:20250206T180000Z
LOCATION:Feurichs Wirtzhaus, Dorfstraße, Berlin, 13051, Deutschland
SUMMARY:Nachbarschaftstreffen Dorfstraße
END:VEVENT
END:VCALENDAR
