BEGIN:VCALENDAR
VERSION:2.0
PRODID:-//hacksw/handcal//NONSGML v1.0//EN
BEGIN:VEVENT
DTSTAMP:20250206T173000Z
DTSTART:20250206T173000Z
DTEND:20250206T190000Z
LOCATION:David-Friedländer-Weg, Berlin, 13057, Deutschland
SUMMARY:Nachbarschaftstreffen David-Friedländer-Weg
END:VEVENT
END:VCALENDAR
