BEGIN:VCALENDAR
VERSION:2.0
PRODID:-//hacksw/handcal//NONSGML v1.0//EN
BEGIN:VEVENT
DTSTAMP:20250207T173000Z
DTSTART:20250207T173000Z
DTEND:20250207T190000Z
LOCATION:Münsterlabdplatz 5, Berlin, 10317, Deutschland
SUMMARY:Nachbarschaftstreffen Münsterlandplatz
END:VEVENT
END:VCALENDAR
