BEGIN:VCALENDAR
VERSION:2.0
PRODID:-//hacksw/handcal//NONSGML v1.0//EN
BEGIN:VEVENT
DTSTAMP:20250208T160000Z
DTSTART:20250208T160000Z
DTEND:20250208T173000Z
LOCATION:Massower Straße 3, Berlin, 10315, Deutschland
SUMMARY:Nachbarschaftstreffen Massower Straße
END:VEVENT
END:VCALENDAR
