BEGIN:VCALENDAR
VERSION:2.0
PRODID:-//hacksw/handcal//NONSGML v1.0//EN
BEGIN:VEVENT
DTSTAMP:20250214T163000Z
DTSTART:20250214T163000Z
DTEND:20250214T180000Z
LOCATION:Bei der Bäckerei Streubel, Zingster Straße 13, Berlin, 13051, Deutschland
SUMMARY:Nachbarschaftstreffen Zingster Straße
END:VEVENT
END:VCALENDAR
