BEGIN:VCALENDAR
VERSION:2.0
PRODID:-//hacksw/handcal//NONSGML v1.0//EN
BEGIN:VEVENT
DTSTAMP:20250214T173000Z
DTSTART:20250214T173000Z
DTEND:20250214T190000Z
LOCATION:Im Quartierspark, Warnitzer Straße 16, Berlin, 13057, Deutschland
SUMMARY:Nachbarschaftstreffen Warnitzer Straße
END:VEVENT
END:VCALENDAR
