BEGIN:VCALENDAR
VERSION:2.0
PRODID:-//hacksw/handcal//NONSGML v1.0//EN
BEGIN:VEVENT
DTSTAMP:20250215T140000Z
DTSTART:20250215T140000Z
DTEND:20250215T153000Z
LOCATION:An der Wendeschleife, Ingrid-Reschke-Straße, Berlin, 10317, Deutschland
SUMMARY:Nachbarschaftstreffen Ingrid-Reschke-Straße
END:VEVENT
END:VCALENDAR
