BEGIN:VCALENDAR
VERSION:2.0
PRODID:-//hacksw/handcal//NONSGML v1.0//EN
BEGIN:VEVENT
DTSTAMP:20250118T090000Z
DTSTART:20250118T090000Z
DTEND:20250118T113000Z
LOCATION:Roedernplatz/City-Point-Center, Berlin, 10369, Deutschland
SUMMARY:Infostand Roedernplatz/City-Point-Center
END:VEVENT
END:VCALENDAR
