BEGIN:VCALENDAR
VERSION:2.0
PRODID:-//hacksw/handcal//NONSGML v1.0//EN
BEGIN:VEVENT
DTSTAMP:20250122T120000Z
DTSTART:20250122T120000Z
DTEND:20250122T143000Z
LOCATION:Bei Rewe und Aldi, Frankfurter Allee 144, Berlin, 10365, Deutschland
SUMMARY:Infostand Frankfurter Allee
END:VEVENT
END:VCALENDAR
