BEGIN:VCALENDAR
VERSION:2.0
PRODID:-//hacksw/handcal//NONSGML v1.0//EN
BEGIN:VEVENT
DTSTAMP:20250127T090000Z
DTSTART:20250127T090000Z
DTEND:20250127T120000Z
LOCATION:Vor dem Rewe, Am Tierpark 68, Berlin, 10319, Deutschland
SUMMARY:Infostand am Tierparkcenter
END:VEVENT
END:VCALENDAR
