BEGIN:VCALENDAR
VERSION:2.0
PRODID:-//hacksw/handcal//NONSGML v1.0//EN
BEGIN:VEVENT
DTSTAMP:20250201T090000Z
DTSTART:20250201T090000Z
DTEND:20250201T113000Z
LOCATION:Bei Rewe und Penny, Volkradtstraße 98, Berlin, 10319, Deutschland
SUMMARY:Infostand Volkradstraße
END:VEVENT
END:VCALENDAR
