BEGIN:VCALENDAR
VERSION:2.0
PRODID:-//hacksw/handcal//NONSGML v1.0//EN
BEGIN:VEVENT
DTSTAMP:20250205T120000Z
DTSTART:20250205T120000Z
DTEND:20250205T150000Z
LOCATION:Beim Edeka, Rheinsteinstraße 4-12, Berlin, 10318 , Deutschland
SUMMARY:Infostand Rheinsteinstraße
END:VEVENT
END:VCALENDAR
