BEGIN:VCALENDAR
VERSION:2.0
PRODID:-//hacksw/handcal//NONSGML v1.0//EN
BEGIN:VEVENT
DTSTAMP:20250207T120000Z
DTSTART:20250207T120000Z
DTEND:20250207T150000Z
LOCATION:S-Bahnhof Nöldnerplatz, Berlin, 10317, Deutschland
SUMMARY:Infostand am S-Bahnhof Nöldnerplatz
END:VEVENT
END:VCALENDAR
