BEGIN:VCALENDAR
VERSION:2.0
PRODID:-//hacksw/handcal//NONSGML v1.0//EN
BEGIN:VEVENT
DTSTAMP:20250208T090000Z
DTSTART:20250208T090000Z
DTEND:20250208T120000Z
LOCATION:Am Ausgang über die Fußgängerbrücke Richtung Lichtenberg, Storkower Straße 207, Berlin, 10369, Deutschland
SUMMARY:Infostand Storkower Bogen
END:VEVENT
END:VCALENDAR
