BEGIN:VCALENDAR
VERSION:2.0
PRODID:-//hacksw/handcal//NONSGML v1.0//EN
BEGIN:VEVENT
DTSTAMP:20250215T120000Z
DTSTART:20250215T120000Z
DTEND:20250215T150000Z
LOCATION:U-Bahnhof Friedrichsfelde, Berlin, 10319, Deutschland
SUMMARY:Infostand am U-Bahnhof Friedrichsfelde
END:VEVENT
END:VCALENDAR
