BEGIN:VCALENDAR
VERSION:2.0
PRODID:-//hacksw/handcal//NONSGML v1.0//EN
BEGIN:VEVENT
DTSTAMP:20250219T090000Z
DTSTART:20250219T090000Z
DTEND:20250219T110000Z
LOCATION:S-Bahnhof Karlshorst, Berlin, 10318, Deutschland
SUMMARY:Infostand S-Bahnhof Karlshorst
END:VEVENT
END:VCALENDAR
