BEGIN:VCALENDAR
VERSION:2.0
PRODID:-//hacksw/handcal//NONSGML v1.0//EN
BEGIN:VEVENT
DTSTAMP:20250220T120000Z
DTSTART:20250220T120000Z
DTEND:20250220T150000Z
LOCATION:Neben der Tramhaltestelle "Genslerstraße", Landsberger Allee 277, Berlin, 13055, Deutschland
SUMMARY:Infostand am Allee-Center
END:VEVENT
END:VCALENDAR
