BEGIN:VCALENDAR
VERSION:2.0
PRODID:-//hacksw/handcal//NONSGML v1.0//EN
BEGIN:VEVENT
DTSTAMP:20250221T090000Z
DTSTART:20250221T090000Z
DTEND:20250221T110000Z
LOCATION:Neben dem Zebrastreifen, Vincent-van-Gogh-Straße 18A, Berlin, 13057, Deutschland
SUMMARY:Infostand Vincent-van-Gogh-Straße
END:VEVENT
END:VCALENDAR
