BEGIN:VCALENDAR
VERSION:2.0
PRODID:-//hacksw/handcal//NONSGML v1.0//EN
BEGIN:VEVENT
DTSTAMP:20250430T150000Z
DTSTART:20250430T150000Z
DTEND:20250430T200000Z
LOCATION:Auf der Fläche gegenüber der Nummern 5a-5e, Dorfstraße, Berlin, 13059, Deutschland
SUMMARY:Maifeuer mit der Feuerwehr Wartenberg
END:VEVENT
END:VCALENDAR
